BEGIN:VCALENDAR
VERSION:2.0
PRODID:Events Booking
BEGIN:VEVENT
UID:69e7678d1538b
SUMMARY:Prayers for Peace
DESCRIPTION:This monthly quiet time on every first Sunday will focus sacred
  energy in prayers for peace in our lives and in the world.
 Facilitated 
 by Mary Curley and Margaret Porter Daniel
LOCATION:923 Buford Road\, Bon Air\, 23235 Virginia\, United States
DTSTART:20261206T150000Z
DTEND:20261206T153000Z
DTSTAMP:20230830T054434Z
ORGANIZER;CN=Unity Bon Air:MAILTO:info@unitybonair.org
GEO:37.510842;-77.551651
X-APPLE-STRUCTURED-LOCATION;VALUE=URI;X-ADDRESS=923 Buford Road\, Bon Air\,
  23235 Virginia\, United States;X-APPLE-RADIUS=72;X-TITLE=Education Room:3
 7.510842;-77.551651
END:VEVENT
END:VCALENDAR